BEGIN:VCALENDAR
VERSION:2.0
PRODID:-//Tukios.com/
BEGIN:VEVENT
UID:1beecd86-3aa3-457f-a78a-eafd38bc44f1@www.berceusefuneralandcremationtraditions.com
DTSTAMP:20260424T205629Z
DTSTART:20260502T130000Z
DTEND:20260502T140000Z
SUMMARY:Omega Service
DESCRIPTION:
URL:https://www.berceusefuneralandcremationtraditions.com/obituaries/charles-wynder-sr
LOCATION: 1242 West Queen Street  Hampton VA 23669
GEO:37.0265761;-76.3686496
END:VEVENT
END:VCALENDAR