BEGIN:VCALENDAR
VERSION:2.0
PRODID:-//Tukios.com/
BEGIN:VEVENT
UID:0fa6e7b0-136a-4280-9383-8f008851dfe7@www.berceusefuneralandcremationtraditions.com
DTSTAMP:20260424T205635Z
DTSTART:20260502T150000Z
DTEND:20260502T160000Z
SUMMARY:Celebration of Life
DESCRIPTION:
URL:https://www.berceusefuneralandcremationtraditions.com/obituaries/charles-wynder-sr
LOCATION: 1242 West Queen Street  Hampton VA 23669
GEO:37.0265761;-76.3686496
END:VEVENT
END:VCALENDAR