BEGIN:VCALENDAR
VERSION:2.0
PRODID:-//Tukios.com/
BEGIN:VEVENT
UID:e6f283c9-6a23-4a14-9528-430581a3ede0@www.berceusefuneralandcremationtraditions.com
DTSTAMP:20260424T205507Z
DTSTART:20260501T230000Z
DTEND:20260502T000000Z
SUMMARY:Visitation
DESCRIPTION:
URL:https://www.berceusefuneralandcremationtraditions.com/obituaries/charles-wynder-sr
LOCATION:Ebenezer Baptist Church 171 Semple Farm Rd  Hampton VA 23666
GEO:37.0876372;-76.4088517
END:VEVENT
END:VCALENDAR