BEGIN:VCALENDAR
VERSION:2.0
PRODID:-//Tukios.com/
BEGIN:VEVENT
UID:86af5f1c-d8a0-49f8-b084-6fc8d374f11e@www.berceusefuneralandcremationtraditions.com
DTSTAMP:20260422T114834Z
DTSTART:20260520T140000Z
DTEND:20260520T150000Z
SUMMARY:Visitation
DESCRIPTION:
URL:https://www.berceusefuneralandcremationtraditions.com/obituaries/alfred-white-jr
LOCATION:St. Joseph Catholic Church 514 Buckroe Avenue  Hampton VA 23664
GEO:37.0440096;-76.2951081
END:VEVENT
END:VCALENDAR