BEGIN:VCALENDAR
VERSION:2.0
PRODID:-//Tukios.com/
BEGIN:VEVENT
UID:8f49ba74-80ee-4666-bc2a-226d34e2b46b@www.berceusefuneralandcremationtraditions.com
DTSTAMP:20260422T114737Z
DTSTART:20260520T150000Z
DTEND:20260520T160000Z
SUMMARY:Funeral Mass
DESCRIPTION:
URL:https://www.berceusefuneralandcremationtraditions.com/obituaries/alfred-white-jr
LOCATION: 514 Buckroe Avenue  Hampton VA 23664
GEO:37.0440096;-76.2951081
END:VEVENT
END:VCALENDAR